BEGIN:VCALENDAR
VERSION:2.0
PRODID:-//FE News - ECPv6.15.13//NONSGML v1.0//EN
CALSCALE:GREGORIAN
METHOD:PUBLISH
X-ORIGINAL-URL:https://www.fenews.co.uk
X-WR-CALDESC:Events for FE News
REFRESH-INTERVAL;VALUE=DURATION:PT1H
X-Robots-Tag:noindex
X-PUBLISHED-TTL:PT1H
BEGIN:VTIMEZONE
TZID:Europe/London
BEGIN:DAYLIGHT
TZOFFSETFROM:+0000
TZOFFSETTO:+0100
TZNAME:BST
DTSTART:20240331T010000
END:DAYLIGHT
BEGIN:STANDARD
TZOFFSETFROM:+0100
TZOFFSETTO:+0000
TZNAME:GMT
DTSTART:20241027T010000
END:STANDARD
BEGIN:DAYLIGHT
TZOFFSETFROM:+0000
TZOFFSETTO:+0100
TZNAME:BST
DTSTART:20250330T010000
END:DAYLIGHT
BEGIN:STANDARD
TZOFFSETFROM:+0100
TZOFFSETTO:+0000
TZNAME:GMT
DTSTART:20251026T010000
END:STANDARD
BEGIN:DAYLIGHT
TZOFFSETFROM:+0000
TZOFFSETTO:+0100
TZNAME:BST
DTSTART:20260329T010000
END:DAYLIGHT
BEGIN:STANDARD
TZOFFSETFROM:+0100
TZOFFSETTO:+0000
TZNAME:GMT
DTSTART:20261025T010000
END:STANDARD
END:VTIMEZONE
BEGIN:VEVENT
DTSTART;TZID=Europe/London:20250520T100000
DTEND;TZID=Europe/London:20250520T160000
DTSTAMP:20260425T032815
CREATED:20250110T125313Z
LAST-MODIFIED:20250220T101509Z
UID:10001503-1747735200-1747756800@www.fenews.co.uk
SUMMARY:FAB Futures
DESCRIPTION:Join us for this unique\, inaugural\, one-day event\, sponsored by NEBOSH\, which is designed around the needs of those with responsibility for developing business strategies in the Skills and FE Sector. The FAB Futures Seminar will unpack key issues that will determine the operating environment for the FE and Skills qualifications and assessment industry in 2032. \n\n\n\nThe seminar will reach beyond the current policy horizon and explore learner trends\, markets\, technology and regulation with the assistance of distinguished speakers and panellists from academia\, business\, think-tanks and the industry through a blend of keynote speeches\, expert panel analysis and round table discussions. Speakers and Panellists will include PA Consulting\, Cambridge Assessment\, DfE\, Institute for Fiscal Studies\, Ofqual\, and more. \n\n\n\nThe seminar has been designed to meet the needs of industry leaders and strategic planners\, as well as future leaders and aspirational individuals looking to grow within the sector. It will also be of interest to the wider FE and Skills sector. It will be an opportunity to exchange ideas with colleagues and those thinking about the future\, whilst acquiring understanding and insights that will support business planning and strategic thinking.
URL:https://www.fenews.co.uk/event/fab-futures/
LOCATION:Hyatt Regency\, 2 Bridge St\, Birmingham\, B1 2JZ\, United Kingdom
CATEGORIES:Conferences,Networking & Mentoring
ATTACH;FMTTYPE=image/jpeg:https://www.fenews.co.uk/wp-content/uploads/2025/01/Fab-futures.jpg
ORGANIZER;CN="Federation of Awarding Bodies":MAILTO:enquiries@awarding.org.uk
END:VEVENT
END:VCALENDAR