BEGIN:VCALENDAR
VERSION:2.0
PRODID:-//FE News - ECPv6.15.13//NONSGML v1.0//EN
CALSCALE:GREGORIAN
METHOD:PUBLISH
X-WR-CALNAME:FE News
X-ORIGINAL-URL:https://www.fenews.co.uk
X-WR-CALDESC:Events for FE News
REFRESH-INTERVAL;VALUE=DURATION:PT1H
X-Robots-Tag:noindex
X-PUBLISHED-TTL:PT1H
BEGIN:VTIMEZONE
TZID:Europe/London
BEGIN:DAYLIGHT
TZOFFSETFROM:+0000
TZOFFSETTO:+0100
TZNAME:BST
DTSTART:20240331T010000
END:DAYLIGHT
BEGIN:STANDARD
TZOFFSETFROM:+0100
TZOFFSETTO:+0000
TZNAME:GMT
DTSTART:20241027T010000
END:STANDARD
BEGIN:DAYLIGHT
TZOFFSETFROM:+0000
TZOFFSETTO:+0100
TZNAME:BST
DTSTART:20250330T010000
END:DAYLIGHT
BEGIN:STANDARD
TZOFFSETFROM:+0100
TZOFFSETTO:+0000
TZNAME:GMT
DTSTART:20251026T010000
END:STANDARD
BEGIN:DAYLIGHT
TZOFFSETFROM:+0000
TZOFFSETTO:+0100
TZNAME:BST
DTSTART:20260329T010000
END:DAYLIGHT
BEGIN:STANDARD
TZOFFSETFROM:+0100
TZOFFSETTO:+0000
TZNAME:GMT
DTSTART:20261025T010000
END:STANDARD
END:VTIMEZONE
BEGIN:VEVENT
DTSTART;TZID=Europe/London:20250623T103000
DTEND;TZID=Europe/London:20250623T120000
DTSTAMP:20260421T054007
CREATED:20250328T092301Z
LAST-MODIFIED:20250328T105454Z
UID:10001548-1750674600-1750680000@www.fenews.co.uk
SUMMARY:Effectively Self-Assessing Quality of Provision Under Ofsted’s New Framework
DESCRIPTION:Join us for an insightful webinar with Peter Nelson\, former HMI\, as he explores the pros and cons of self-assessing this year against Ofsted’s new inspection framework. \n\n\n\nDuring this session\, Peter will: \n\n\n\n• Consider several options of how you might approach self-assessment and the structure of your self-assessment report (SAR) and quality improvement plan (QIP)• Introduce Ofsted’s new inspection framework\, and how that might have a bearing on this year’s SAR• Explore how you might approach grading of your SAR• Introduce the toolkits\, and summarise the main points of each of the key judgements contained in the new inspection framework• Provide practical insights on how to self-assess objectively and identify areas for improvement. \n\n\n\nThis is an invaluable opportunity for education providers to gain expert guidance and help ensure the rigour of your quality improvement process. \n\n\n\nPlease contact info@fin-online.org.uk for any support with booking. \n\n\n\nEvent Booking (sphr.uk)
URL:https://www.fenews.co.uk/event/effectively-self-assessing-quality-of-provision-under-ofsteds-new-framework/
CATEGORIES:Livestream,Online & Webinars
ATTACH;FMTTYPE=image/jpeg:https://www.fenews.co.uk/wp-content/uploads/2023/10/Mockup-1-Masterclass.jpg
END:VEVENT
BEGIN:VEVENT
DTSTART;TZID=Europe/London:20250626T103000
DTEND;TZID=Europe/London:20250626T113000
DTSTAMP:20260421T054007
CREATED:20241108T101948Z
LAST-MODIFIED:20250519T182816Z
UID:10001471-1750933800-1750937400@www.fenews.co.uk
SUMMARY:FREE WEBINAR - DISCOVERY SESSION WITH FIN - WITH OFSTED INSPECTION DATA AND TOP TIPS
DESCRIPTION:Join us for an informal session hosted by Peter Nelson\, former Ofsted Inspector. Peter will share some updates on inspections with some top tips. This is also an opportunity to find about the Fellowship of Inspection Nominees (FIN) and how your organisation could benefit and answer any questions you may have. Peter will also provide attendees with an insight into the guidance and knowledge members have access to. We look forward to meeting you. \n\n\n\nIf you have any problems registering please email Caroline at info@fin-online.org.uk for assistance. \n\n\n\nEvents – Fellowship of Inspection Nominees (fin-online.org.uk)
URL:https://www.fenews.co.uk/event/free-webinar-discovery-session-with-fin-with-ofsted-inspection-data-and-top-tips-4/
CATEGORIES:Livestream,Online & Webinars
ATTACH;FMTTYPE=image/jpeg:https://www.fenews.co.uk/wp-content/uploads/2023/10/Mockup-1-Webinar-1.jpg
END:VEVENT
END:VCALENDAR